BEGIN:VCALENDAR
VERSION:2.0
PRODID:-//Connect Werkpunt - ECPv6.9.0//NONSGML v1.0//EN
CALSCALE:GREGORIAN
METHOD:PUBLISH
X-WR-CALNAME:Connect Werkpunt
X-ORIGINAL-URL:https://connectwerkpunt.nl
X-WR-CALDESC:Evenementen voor Connect Werkpunt
REFRESH-INTERVAL;VALUE=DURATION:PT1H
X-Robots-Tag:noindex
X-PUBLISHED-TTL:PT1H
BEGIN:VTIMEZONE
TZID:UTC
BEGIN:STANDARD
TZOFFSETFROM:+0000
TZOFFSETTO:+0000
TZNAME:UTC
DTSTART:20240101T000000
END:STANDARD
END:VTIMEZONE
BEGIN:VEVENT
DTSTART;TZID=UTC:20250219T180000
DTEND;TZID=UTC:20250219T200000
DTSTAMP:20260423T082435
CREATED:20250213T081100Z
LAST-MODIFIED:20250213T081235Z
UID:3194-1739988000-1739995200@connectwerkpunt.nl
SUMMARY:Van CV tot Solliciteren!
DESCRIPTION:Wil je snel en succesvol een nieuwe baan vinden? Laat je dan adviseren en inspireren!
URL:https://connectwerkpunt.nl/event/van-cv-tot-solliciteren/
LOCATION:Connect2Jeugd\, Perosistraat 150A\, Tilburg\, Netherlands
CATEGORIES:Ondernemen,Workshops
ATTACH;FMTTYPE=image/png:https://connectwerkpunt.nl/wp-content/uploads/2025/02/Events-Uitgelichte-afbeelding111.png
END:VEVENT
BEGIN:VEVENT
DTSTART;TZID=UTC:20241218T170000
DTEND;TZID=UTC:20241218T190000
DTSTAMP:20260423T082435
CREATED:20241217T123223Z
LAST-MODIFIED:20241217T123404Z
UID:3044-1734541200-1734548400@connectwerkpunt.nl
SUMMARY:Inspiratieavond: Hayrettin Ay
DESCRIPTION:
URL:https://connectwerkpunt.nl/event/inspiratieavond-hayrettin-ay/
LOCATION:Connect2Jeugd\, Perosistraat 150A\, Tilburg\, Netherlands
CATEGORIES:Ondernemen,Workshops
ATTACH;FMTTYPE=image/png:https://connectwerkpunt.nl/wp-content/uploads/2024/12/1231243232143223.png
ORGANIZER;CN="Connect2Jeugd":MAILTO:werkpunt@connect2jeugd.nl
END:VEVENT
BEGIN:VEVENT
DTSTART;TZID=UTC:20241002T163000
DTEND;TZID=UTC:20241002T183000
DTSTAMP:20260423T082435
CREATED:20241106T130219Z
LAST-MODIFIED:20241217T123840Z
UID:2652-1727886600-1727893800@connectwerkpunt.nl
SUMMARY:Workshop: Ondernemen
DESCRIPTION:
URL:https://connectwerkpunt.nl/event/workshop-ondernemen/
LOCATION:Connect2Jeugd\, Perosistraat 150A\, Tilburg\, Netherlands
CATEGORIES:Workshops
ATTACH;FMTTYPE=image/png:https://connectwerkpunt.nl/wp-content/uploads/2024/11/243423432.png
END:VEVENT
END:VCALENDAR